BEGIN:VCALENDAR
VERSION:2.0
PRODID:-//wp-events-plugin.com//7.2.3.1//EN
TZID:Europe/Berlin
X-WR-TIMEZONE:Europe/Berlin
BEGIN:VEVENT
UID:27@xn--denkanstsse-limburgerhof-soc.info
DTSTART;TZID=Europe/Berlin:20250903T190000
DTEND;TZID=Europe/Berlin:20250903T210000
DTSTAMP:20250624T072521Z
URL:https://www.xn--denkanstsse-limburgerhof-soc.info/events/himalaya-krie
 g-ums-wasser/
SUMMARY:HIMALAYA Krieg ums WASSER
DESCRIPTION:Gigantomanie auf dem Dach der Welt\nIm Himalaya entspringen so 
 wasserreiche Flüsse wie der Indus\, der Ganges\, der Brahmaputra und der 
 Mekong. Sie sind die wichtigsten Lebensadern für die Millionenvölker Sü
 dasiens. Doch China droht mit Mega-Staudämmen seinen Nachbarn das Wasser 
 abzudrehen. Ausgerechnet in der tiefsten Schlucht der Erde\, wo der Yarlun
 g Tsango (Bramaputra) auf wenigen Kilometern Tausende Meter an Höhe verli
 ert\, soll das größte Wasserkraftwerk aller Zeiten entstehen. Mit einer 
 gigantischen Stromausbeute\, so viel wie aus 40 Atomkraftwerken! Doch bef
 ürchtet werden Zwangsumsiedlungen\, Erdbeben und Sturzfluten mit ernsten 
 Folgen für das sensible Ökosystem.\nWo Wasser zur Waffe wird!\nDie Himal
 aya-Gebirge sind ein Hotspot im ewigen Schnee und Eis. Hier führen die At
 ommächte China\, Indien und Pakistan schon seit Jahrzehnten blutige Grenz
 kriege. Dank klimatischer Vielfalt und großer Höhenunterschiede präsent
 iert sich diese Region als eine der vielfältigsten Lebensräume der Erde.
  Dort ist Prof. Vermeer zuhause. Er spricht Chinesisch wie ein Chinese und
  fühlt wie ein Inder\, denn er ist seit Kindesbeinen mit diesen fernen un
 d uns so fremden Welten vertraut. Er umwanderte den heiligen Berg Kailash 
 und wurde vom Dalai Lama in Privataudienz empfangen. Immer wieder ein beso
 nderes Erlebnis\, ihm zuzuhören und mit ihm diskutieren zu können!\n\nMi
 ttwoch\, 03. September 2025\nKultur-Kapelle Limburgerhof\n10 EURO Barspend
 e zum Erhalt der Kultur-Kapelle\nProf. Dr. Manuel Vermeer\nOstasien-Instit
 ut Ludwigshafen\,\nAsien-Experte\, Consultant\, Krimi-Autor\n\nEine Verans
 taltung von EnPaLi e.V.
ATTACH;FMTTYPE=image/jpeg:https://www.xn--denkanstsse-limburgerhof-soc.inf
 o/wp-content/uploads/2025/06/Himalaya_Vermeer-2025.jpg
CATEGORIES:2025
LOCATION:Kultur-Kapelle im Park Limburgerhof\, Weinbietstraße 42\, Limburg
 erhof\, Rheinland Pfalz\, 67117\, Deutschland
X-APPLE-STRUCTURED-LOCATION;VALUE=URI;X-ADDRESS=Weinbietstraße 42\, Limbur
 gerhof\, Rheinland Pfalz\, 67117\, Deutschland;X-APPLE-RADIUS=100;X-TITLE=
 Kultur-Kapelle im Park Limburgerhof:geo:0,0
END:VEVENT
BEGIN:VTIMEZONE
TZID:Europe/Berlin
X-LIC-LOCATION:Europe/Berlin
BEGIN:DAYLIGHT
DTSTART:20250330T030000
TZOFFSETFROM:+0100
TZOFFSETTO:+0200
TZNAME:CEST
END:DAYLIGHT
END:VTIMEZONE
END:VCALENDAR