BEGIN:VCALENDAR
VERSION:2.0
PRODID:-//wp-events-plugin.com//7.2.3.1//EN
TZID:Europe/Berlin
X-WR-TIMEZONE:Europe/Berlin
BEGIN:VEVENT
UID:23@xn--denkanstsse-limburgerhof-soc.info
DTSTART;TZID=Europe/Berlin:20250312T180000
DTEND;TZID=Europe/Berlin:20250312T200000
DTSTAMP:20250120T173054Z
URL:https://www.xn--denkanstsse-limburgerhof-soc.info/events/kartoffelbaue
 r-aus-leidenschaft/
SUMMARY:KARTOFFELBAUER aus LEIDENSCHAFT
DESCRIPTION:Johannes Zehfuß (MdL)\, Agrarexperte und Politiker\n\nEine Ver
 anstaltung von EnPaLi e.V.
ATTACH;FMTTYPE=image/jpeg:https://www.xn--denkanstsse-limburgerhof-soc.inf
 o/wp-content/uploads/2025/01/1.-Vortr._25-Kartoffel.jpg
CATEGORIES:2025
LOCATION:Kultur-Kapelle im Park Limburgerhof\, Weinbietstraße 42\, Limburg
 erhof\, Rheinland Pfalz\, 67117\, Deutschland
X-APPLE-STRUCTURED-LOCATION;VALUE=URI;X-ADDRESS=Weinbietstraße 42\, Limbur
 gerhof\, Rheinland Pfalz\, 67117\, Deutschland;X-APPLE-RADIUS=100;X-TITLE=
 Kultur-Kapelle im Park Limburgerhof:geo:0,0
END:VEVENT
BEGIN:VTIMEZONE
TZID:Europe/Berlin
X-LIC-LOCATION:Europe/Berlin
BEGIN:STANDARD
DTSTART:20241027T020000
TZOFFSETFROM:+0200
TZOFFSETTO:+0100
TZNAME:CET
END:STANDARD
END:VTIMEZONE
END:VCALENDAR