BEGIN:VCALENDAR
VERSION:2.0
PRODID:-//wp-events-plugin.com//7.2.3.1//EN
TZID:Europe/Berlin
X-WR-TIMEZONE:Europe/Berlin
BEGIN:VEVENT
UID:30@xn--denkanstsse-limburgerhof-soc.info
DTSTART;TZID=Europe/Berlin:20260506T190000
DTEND;TZID=Europe/Berlin:20260506T210000
DTSTAMP:20260316T103848Z
URL:https://www.xn--denkanstsse-limburgerhof-soc.info/events/palliativ-und
 -daheim/
SUMMARY:PALLIATIV und DAHEIM
DESCRIPTION:Lesung und Vortrag\n„Den natürlichen Sterbeverlauf nicht ver
 drängen\, sondern offen und kommunikativ damit umgehen\, denn die meisten
  Ängste sind unbegründet!“\nDies ist der eindringliche und zugleich be
 ruhigende Appell des Palliativ-Mediziners Dr. Michael Hatzenbühler. Er wi
 ll Ängste vor dem Sterben abbauen\, Gestaltungsmöglichkeiten für die le
 tzten Lebensphasen aufzeigen und das Vertrauen in den eigenen Körper best
 ärken. Schließlich offenbaren sich Geburt und natürliches Sterben als p
 hysiologische Prozesse\, die verstanden und sachkundig begleitet werden m
 üssen.\nDr. Hatzenbühler will seine Leser und Zuhörer an die Hand nehme
 n und die vier Stationen des natürlichen Sterbens miterleben lassen.\nSei
 ne Expertise gründet auf der Erfahrung aus über 5 000 eigenen Sterbe-beg
 leitungen. Ein Grund mehr\, in der Kultur-Kapelle das Gespräch mit ihm zu
  suchen und von seinen Denkanstößen zu profitieren.\nDr. Michael Hatzenb
 ühler\nAmbulantes Hospiz Neustadt
ATTACH;FMTTYPE=image/jpeg:https://www.xn--denkanstsse-limburgerhof-soc.inf
 o/wp-content/uploads/2026/02/Paliativ_1.jpg
CATEGORIES:Denkanstösse
LOCATION:Kultur-Kapelle im Park Limburgerhof\, Weinbietstraße 42\, Limburg
 erhof\, Rheinland Pfalz\, 67117\, Deutschland
X-APPLE-STRUCTURED-LOCATION;VALUE=URI;X-ADDRESS=Weinbietstraße 42\, Limbur
 gerhof\, Rheinland Pfalz\, 67117\, Deutschland;X-APPLE-RADIUS=100;X-TITLE=
 Kultur-Kapelle im Park Limburgerhof:geo:0,0
END:VEVENT
BEGIN:VTIMEZONE
TZID:Europe/Berlin
X-LIC-LOCATION:Europe/Berlin
BEGIN:DAYLIGHT
DTSTART:20260329T030000
TZOFFSETFROM:+0100
TZOFFSETTO:+0200
TZNAME:CEST
END:DAYLIGHT
END:VTIMEZONE
END:VCALENDAR